BEGIN:VCALENDAR
BEGIN:VEVENT
DESCRIPTION:\nMore Information: https://tickets.nantucketdreamland.org/websales/pages/TicketSearchCriteria.aspx?evtInfo=998200~0e99e4c5-4710-4b68-b03b-a86391e0755f&\n\n
DTSTART:20260319T220000Z
DTEND:20260319T230000Z
LOCATION:Studio Theater, 17 South Water Street, NANTUCKET, MA, 02554
SUMMARY:Nantucket Lighthouse School&#39;s Educational Speaker Series Presents Jason Craige Harris
UID:998200
DTSTAMP:20260423T033521Z
END:VEVENT
END:VCALENDAR
