BEGIN:VCALENDAR
BEGIN:VEVENT
DESCRIPTION:\nMore Information: https://tickets.nantucketdreamland.org/websales/pages/TicketSearchCriteria.aspx?evtInfo=997272~0e99e4c5-4710-4b68-b03b-a86391e0755f&\n\nWhen Diem's custodial grandparents adamantly refuse Kenna's attempts to see her daughter, Kenna discovers unexpected compassion, and then something truer and deeper, with former NFL player and local bar owner Ledger. As their secret romance develops, so do the dangers for both of them, leading Kenna toward heartbreak and, ultimately, the hope for a second chance.
DTSTART:20260314T230000Z
DTEND:20260315T005400Z
LOCATION:Studio Theater, 17 South Water Street, NANTUCKET, MA, 02554
SUMMARY:Reminders of Him
UID:997272
DTSTAMP:20260423T052257Z
END:VEVENT
END:VCALENDAR
