BEGIN:VCALENDAR
BEGIN:VEVENT
DESCRIPTION:\nMore Information: https://tickets.nantucketdreamland.org/websales/pages/TicketSearchCriteria.aspx?evtInfo=997271~0e99e4c5-4710-4b68-b03b-a86391e0755f&\n\nA powerful socialite and a promising ballet dancer begin a dangerous affair. When he secretly crosses the US-Mexico border, she takes desperate measures to protect their future together.
DTSTART:20260314T220000Z
DTEND:20260314T233800Z
LOCATION:Main Theater, 17 South Water Street, NANTUCKET, MA, 02554
SUMMARY:Dreams
UID:997271
DTSTAMP:20260423T050556Z
END:VEVENT
END:VCALENDAR
