BEGIN:VCALENDAR
BEGIN:VEVENT
DESCRIPTION:\nMore Information: https://tickets.nantucketdreamland.org/websales/pages/TicketSearchCriteria.aspx?evtInfo=997262~0e99e4c5-4710-4b68-b03b-a86391e0755f&\n\nScientists have discovered how to "hop" human consciousness into lifelike robotic animals, allowing people to communicate with animals as animals. Animal lover Mabel seizes an opportunity to use the technology, uncovering mysteries within the animal world that are beyond anything she could have imagined.
DTSTART:20260314T170000Z
DTEND:20260314T184500Z
LOCATION:Studio Theater, 17 South Water Street, NANTUCKET, MA, 02554
SUMMARY:Pixar&#39;s Hoppers
UID:997262
DTSTAMP:20260423T045644Z
END:VEVENT
END:VCALENDAR
