BEGIN:VCALENDAR
BEGIN:VEVENT
DESCRIPTION:\nMore Information: https://tickets.nantucketdreamland.org/websales/pages/TicketSearchCriteria.aspx?evtInfo=993366~0e99e4c5-4710-4b68-b03b-a86391e0755f&\n\n
DTSTART:20260509T230000Z
DTEND:20260510T003000Z
LOCATION:Main Theater, 17 South Water Street, NANTUCKET, MA, 02554
SUMMARY:Special Screening: The 2026 International Fly-Fishing Film Festival
UID:993366
DTSTAMP:20260423T033442Z
END:VEVENT
END:VCALENDAR
