BEGIN:VCALENDAR
BEGIN:VEVENT
DESCRIPTION:\nMore Information: https://tickets.nantucketdreamland.org/websales/pages/TicketSearchCriteria.aspx?evtInfo=987790~0e99e4c5-4710-4b68-b03b-a86391e0755f&\n\nThis free community screening is a partnership with Egan Maritime Institute as part of its 2026 Shipwreck Showtimes film series featuring islands as places of refuge and wonder.
DTSTART:20260315T200000Z
DTEND:20260315T212400Z
LOCATION:Main Theater, 17 South Water Street, NANTUCKET, MA, 02554
SUMMARY:Free Community Screening: Kensuke&#39;s Kingdom
UID:987790
DTSTAMP:20260423T033510Z
END:VEVENT
END:VCALENDAR
