BEGIN:VCALENDAR
BEGIN:VEVENT
DESCRIPTION:\nMore Information: https://tickets.nantucketdreamland.org/websales/pages/TicketSearchCriteria.aspx?evtInfo=979987~0e99e4c5-4710-4b68-b03b-a86391e0755f&\n\nNCTV is hosting a free workshop upstairs at the Dreamland Studio Theater. Community members will come together to learn fundamentals, workshop ideas, and network with one another. GET A HEAD START ON YOUR NSF26 SHORT FILM! (participants MUST reserve a free ticket for entry)
DTSTART:20260315T133000Z
DTEND:20260315T153000Z
LOCATION:Studio Theater, 17 South Water Street, NANTUCKET, MA, 02554
SUMMARY:NCTV Filmmaking Workshop (Free to the community)
UID:979987
DTSTAMP:20260423T033551Z
END:VEVENT
END:VCALENDAR
