BEGIN:VCALENDAR
BEGIN:VEVENT
DESCRIPTION:\nMore Information: https://tickets.nantucketdreamland.org/websales/pages/TicketSearchCriteria.aspx?evtInfo=879130~0e99e4c5-4710-4b68-b03b-a86391e0755f&\n\nAs storm season intensifies, the paths of former storm chaser Kate Cooper and reckless social-media superstar Tyler Owens collide when terrifying phenomena never seen before are unleashed. The pair and their competing teams find themselves squarely in the paths of multiple storm systems converging over central Oklahoma in the fight of their lives.
DTSTART:20240721T003000Z
DTEND:20240721T023200Z
LOCATION:Dreamland Drive-In, 7 Nobadeer Farm Road, Nantucket, MA, 02554
SUMMARY:Drive In: Twisters
UID:879130
DTSTAMP:20260419T173618Z
END:VEVENT
END:VCALENDAR
